BEGIN:VCALENDAR
VERSION:2.0
PRODID:-//Weingut Braunewell - ECPv6.15.18//NONSGML v1.0//EN
CALSCALE:GREGORIAN
METHOD:PUBLISH
X-ORIGINAL-URL:https://braunewell-wein.de
X-WR-CALDESC:Veranstaltungen für Weingut Braunewell
REFRESH-INTERVAL;VALUE=DURATION:PT1H
X-Robots-Tag:noindex
X-PUBLISHED-TTL:PT1H
BEGIN:VTIMEZONE
TZID:Europe/Berlin
BEGIN:DAYLIGHT
TZOFFSETFROM:+0100
TZOFFSETTO:+0200
TZNAME:CEST
DTSTART:20240331T010000
END:DAYLIGHT
BEGIN:STANDARD
TZOFFSETFROM:+0200
TZOFFSETTO:+0100
TZNAME:CET
DTSTART:20241027T010000
END:STANDARD
BEGIN:DAYLIGHT
TZOFFSETFROM:+0100
TZOFFSETTO:+0200
TZNAME:CEST
DTSTART:20250330T010000
END:DAYLIGHT
BEGIN:STANDARD
TZOFFSETFROM:+0200
TZOFFSETTO:+0100
TZNAME:CET
DTSTART:20251026T010000
END:STANDARD
BEGIN:DAYLIGHT
TZOFFSETFROM:+0100
TZOFFSETTO:+0200
TZNAME:CEST
DTSTART:20260329T010000
END:DAYLIGHT
BEGIN:STANDARD
TZOFFSETFROM:+0200
TZOFFSETTO:+0100
TZNAME:CET
DTSTART:20261025T010000
END:STANDARD
END:VTIMEZONE
BEGIN:VEVENT
DTSTART;TZID=Europe/Berlin:20250703T180000
DTEND;TZID=Europe/Berlin:20250703T230000
DTSTAMP:20260421T050627
CREATED:20241112T135131Z
LAST-MODIFIED:20250618T103106Z
UID:35299-1751565600-1751583600@braunewell-wein.de
SUMMARY:Weinbar auf dem Römerberg
DESCRIPTION:After Work get-together im Weingut\nWir laden Euch ein in entspannter Atmosphäre unsere Weine und Sekte in unserer Vinothek und auf unserer Terrasse zu genießen. Die ein oder andere Rarität aus unserem Keller darf natürlich auch nicht fehlen. \nVon kleinen Snacks\,  über Weinfestklassiker oder Street-Food-Klassiker. Jede Weinbar hält für Euch unterschiedliche Angebote bereit und wir freuen uns Spinnlers Streetfood in dieser Saison als Partner begrüßen zu dürfen. \nEs ist keine Anmeldung erforderlich. Vorbeikommen und Spaß haben. \nWir freuen uns über Euren Besuch! \nWeitere Weinbartermine 2025\n3. Juli\n14. August\n11. September \n  \n  \n \n  \n  \n 
URL:https://braunewell-wein.de/termine/weinbar-auf-dem-roemerberg-3/
LOCATION:Weingut Braunewell\, Am Römerberg 34\, Essenheim\, Rheinland-Pfalz\, 55270\, Deutschland
ATTACH;FMTTYPE=image/jpeg:https://braunewell-wein.de/wp-content/uploads/2022/05/InesBarwig_WeingutBraunewell_Rheinhessen-T3-74.jpg
ORGANIZER;CN="Weingut Braunewell":MAILTO:info@weingut-braunewell.de
END:VEVENT
END:VCALENDAR