BEGIN:VCALENDAR
VERSION:2.0
PRODID:-//Weingut Braunewell - ECPv6.15.18//NONSGML v1.0//EN
CALSCALE:GREGORIAN
METHOD:PUBLISH
X-ORIGINAL-URL:https://braunewell-wein.de
X-WR-CALDESC:Veranstaltungen für Weingut Braunewell
REFRESH-INTERVAL;VALUE=DURATION:PT1H
X-Robots-Tag:noindex
X-PUBLISHED-TTL:PT1H
BEGIN:VTIMEZONE
TZID:UTC
BEGIN:STANDARD
TZOFFSETFROM:+0000
TZOFFSETTO:+0000
TZNAME:UTC
DTSTART:20240101T000000
END:STANDARD
END:VTIMEZONE
BEGIN:VEVENT
DTSTART;VALUE=DATE:20250828
DTEND;VALUE=DATE:20250908
DTSTAMP:20260421T093231
CREATED:20241112T141335Z
LAST-MODIFIED:20241112T141335Z
UID:35314-1756339200-1757289599@braunewell-wein.de
SUMMARY:Mainzer Weinmarkt
DESCRIPTION:Die einzigartige Atmosphäre im Mainzer Stadtpark lädt Besucher zum Verweilen ein. Neben den regionalen Winzern und ihrem Weinangebot kommen auch Genießer der Kulinarik und Musik nicht zu kurz. Ein abwechslungsreiches Bühnenprogramm rundet den Besuch in Mainz ab. \n  \nWir freuen uns auf Ihren Besuch an unserem Stand! \n  \n 
URL:https://braunewell-wein.de/termine/mainzer-weinmarkt-2/
LOCATION:Mainzer Weinmarkt\, An der Favorite\, Mainz\, 55131\, Deutschland
ATTACH;FMTTYPE=image/jpeg:https://braunewell-wein.de/wp-content/uploads/2023/10/Weinmarkt.jpg
ORGANIZER;CN="Braunewell I Dinter":MAILTO:info@braunewell-dinter,de
END:VEVENT
END:VCALENDAR