BEGIN:VCALENDAR
VERSION:2.0
PRODID:-//Weingut Braunewell - ECPv6.15.18//NONSGML v1.0//EN
CALSCALE:GREGORIAN
METHOD:PUBLISH
X-WR-CALNAME:Weingut Braunewell
X-ORIGINAL-URL:https://braunewell-wein.de
X-WR-CALDESC:Veranstaltungen für Weingut Braunewell
REFRESH-INTERVAL;VALUE=DURATION:PT1H
X-Robots-Tag:noindex
X-PUBLISHED-TTL:PT1H
BEGIN:VTIMEZONE
TZID:Europe/Paris
BEGIN:DAYLIGHT
TZOFFSETFROM:+0100
TZOFFSETTO:+0200
TZNAME:CEST
DTSTART:20240331T010000
END:DAYLIGHT
BEGIN:STANDARD
TZOFFSETFROM:+0200
TZOFFSETTO:+0100
TZNAME:CET
DTSTART:20241027T010000
END:STANDARD
BEGIN:DAYLIGHT
TZOFFSETFROM:+0100
TZOFFSETTO:+0200
TZNAME:CEST
DTSTART:20250330T010000
END:DAYLIGHT
BEGIN:STANDARD
TZOFFSETFROM:+0200
TZOFFSETTO:+0100
TZNAME:CET
DTSTART:20251026T010000
END:STANDARD
BEGIN:DAYLIGHT
TZOFFSETFROM:+0100
TZOFFSETTO:+0200
TZNAME:CEST
DTSTART:20260329T010000
END:DAYLIGHT
BEGIN:STANDARD
TZOFFSETFROM:+0200
TZOFFSETTO:+0100
TZNAME:CET
DTSTART:20261025T010000
END:STANDARD
END:VTIMEZONE
BEGIN:VEVENT
DTSTART;TZID=Europe/Paris:20251204T183000
DTEND;TZID=Europe/Paris:20251204T220000
DTSTAMP:20260425T183806
CREATED:20241112T141714Z
LAST-MODIFIED:20250220T110650Z
UID:35316-1764873000-1764885600@braunewell-wein.de
SUMMARY:Tasting | Braunewell & die Roten
DESCRIPTION:Exklusive Verkostung unserer roten Schätze aus dem Selztal\nSpricht man über Weine aus Deutschland\, so kommen einem vermutlich zuerst Weißweine in den Sinn. Doch das hat sich die letzten zwei Jahrzehnte grundlegend geändert und deutsche Rotweine spielen im internationalen Ansehen mittlerweile eine bedeutende Rolle. Wir wollen Euch mit auf die Reise durch unsere roten Schätze aus dem Selztal nehmen und Euch die Entwicklung dahingehend näherbringen\, dass sich deutsche Rotweine in puncto Charakter und Qualität definitiv nicht verstecken müssen. \nDas erwartet Euch: \n\nSektempfang vor der Rotweinprobe\nAlles Wissenswerte rund um die Entwicklung des Rotweinanbaus in Deutschland\, speziell bei uns im Weingut Braunewell \nVerkostungsquerschnitt der Rotweine im Hinblick auf Rebsortenvielfalt und Jahrgänge\nWasser &  Tastingvesper® inklusive \n\nDauer: ca. 3\,5 Stunden \nPlätze: max. 25 Personen\, mindestens 8 Personen \nOrt: Vinothek\, Weingut Braunewell \n  \nWir freuen uns auf Eure Anmeldung. \nTickets unter: \nBraunewell & die Roten \n 
URL:https://braunewell-wein.de/termine/tasting-braunewell-die-roten-3/
LOCATION:Weingut Braunewell\, Am Römerberg 34\, Essenheim\, Rheinland-Pfalz\, 55270\, Deutschland
ATTACH;FMTTYPE=image/png:https://braunewell-wein.de/wp-content/uploads/2022/12/Weinbergswanderung-und-Weinprobe.png
ORGANIZER;CN="Weingut Braunewell":MAILTO:info@weingut-braunewell.de
END:VEVENT
END:VCALENDAR