BEGIN:VCALENDAR
VERSION:2.0
PRODID:-//Weingut Braunewell - ECPv6.15.18//NONSGML v1.0//EN
CALSCALE:GREGORIAN
METHOD:PUBLISH
X-ORIGINAL-URL:https://braunewell-wein.de
X-WR-CALDESC:Veranstaltungen für Weingut Braunewell
REFRESH-INTERVAL;VALUE=DURATION:PT1H
X-Robots-Tag:noindex
X-PUBLISHED-TTL:PT1H
BEGIN:VTIMEZONE
TZID:Europe/Berlin
BEGIN:DAYLIGHT
TZOFFSETFROM:+0100
TZOFFSETTO:+0200
TZNAME:CEST
DTSTART:20250330T010000
END:DAYLIGHT
BEGIN:STANDARD
TZOFFSETFROM:+0200
TZOFFSETTO:+0100
TZNAME:CET
DTSTART:20251026T010000
END:STANDARD
BEGIN:DAYLIGHT
TZOFFSETFROM:+0100
TZOFFSETTO:+0200
TZNAME:CEST
DTSTART:20260329T010000
END:DAYLIGHT
BEGIN:STANDARD
TZOFFSETFROM:+0200
TZOFFSETTO:+0100
TZNAME:CET
DTSTART:20261025T010000
END:STANDARD
BEGIN:DAYLIGHT
TZOFFSETFROM:+0100
TZOFFSETTO:+0200
TZNAME:CEST
DTSTART:20270328T010000
END:DAYLIGHT
BEGIN:STANDARD
TZOFFSETFROM:+0200
TZOFFSETTO:+0100
TZNAME:CET
DTSTART:20271031T010000
END:STANDARD
END:VTIMEZONE
BEGIN:VEVENT
DTSTART;TZID=Europe/Berlin:20260123T193000
DTEND;TZID=Europe/Berlin:20260123T220000
DTSTAMP:20260425T214821
CREATED:20251027T132429Z
LAST-MODIFIED:20251219T085843Z
UID:38692-1769196600-1769205600@braunewell-wein.de
SUMMARY:Tasting | Online
DESCRIPTION:  \nFreut euch auf ein stimmungsvolles Online-Tasting mit vier sorgfältig ausgewählten Weinen. Gemütlich\, genussvoll und ganz entspannt von zuhause aus. \nIm Paket dazu folgende Weine: \n2022 Brut de Selztal\n2023 Essenheim Riesling Kalkstein\n2024 Essenheim Chardonnay\n2019 François  \ndazu 1x Sektverschluss \n4 Flaschen / 69 € \n  \nONLINE WEINPROBE\nWir nutzen das Online Meeting Tool Microsoft Teams für die Weinprobe:\n1) Paket bestellen oder abholen (inkl. der Zugangsdaten für den Weinprobentermin)\n2) Microsoft Teams installieren\n3) Mitprobieren und mitdiskutieren\nDer offizielle Teil dauert ca. 2 Stunden \nJetzt hier Paket sichern
URL:https://braunewell-wein.de/termine/tasting-online/
LOCATION:Online  Tasting\, Deutschland
ATTACH;FMTTYPE=image/png:https://braunewell-wein.de/wp-content/uploads/2025/10/Website-VA-Schatzkammer-Tasting-1.png
END:VEVENT
END:VCALENDAR