BEGIN:VCALENDAR
VERSION:2.0
PRODID:-//Weingut Braunewell - ECPv6.15.18//NONSGML v1.0//EN
CALSCALE:GREGORIAN
METHOD:PUBLISH
X-WR-CALNAME:Weingut Braunewell
X-ORIGINAL-URL:https://braunewell-wein.de
X-WR-CALDESC:Veranstaltungen für Weingut Braunewell
REFRESH-INTERVAL;VALUE=DURATION:PT1H
X-Robots-Tag:noindex
X-PUBLISHED-TTL:PT1H
BEGIN:VTIMEZONE
TZID:Europe/Paris
BEGIN:DAYLIGHT
TZOFFSETFROM:+0100
TZOFFSETTO:+0200
TZNAME:CEST
DTSTART:20250330T010000
END:DAYLIGHT
BEGIN:STANDARD
TZOFFSETFROM:+0200
TZOFFSETTO:+0100
TZNAME:CET
DTSTART:20251026T010000
END:STANDARD
BEGIN:DAYLIGHT
TZOFFSETFROM:+0100
TZOFFSETTO:+0200
TZNAME:CEST
DTSTART:20260329T010000
END:DAYLIGHT
BEGIN:STANDARD
TZOFFSETFROM:+0200
TZOFFSETTO:+0100
TZNAME:CET
DTSTART:20261025T010000
END:STANDARD
BEGIN:DAYLIGHT
TZOFFSETFROM:+0100
TZOFFSETTO:+0200
TZNAME:CEST
DTSTART:20270328T010000
END:DAYLIGHT
BEGIN:STANDARD
TZOFFSETFROM:+0200
TZOFFSETTO:+0100
TZNAME:CET
DTSTART:20271031T010000
END:STANDARD
END:VTIMEZONE
BEGIN:VTIMEZONE
TZID:Europe/Berlin
BEGIN:DAYLIGHT
TZOFFSETFROM:+0100
TZOFFSETTO:+0200
TZNAME:CEST
DTSTART:20250330T010000
END:DAYLIGHT
BEGIN:STANDARD
TZOFFSETFROM:+0200
TZOFFSETTO:+0100
TZNAME:CET
DTSTART:20251026T010000
END:STANDARD
BEGIN:DAYLIGHT
TZOFFSETFROM:+0100
TZOFFSETTO:+0200
TZNAME:CEST
DTSTART:20260329T010000
END:DAYLIGHT
BEGIN:STANDARD
TZOFFSETFROM:+0200
TZOFFSETTO:+0100
TZNAME:CET
DTSTART:20261025T010000
END:STANDARD
BEGIN:DAYLIGHT
TZOFFSETFROM:+0100
TZOFFSETTO:+0200
TZNAME:CEST
DTSTART:20270328T010000
END:DAYLIGHT
BEGIN:STANDARD
TZOFFSETFROM:+0200
TZOFFSETTO:+0100
TZNAME:CET
DTSTART:20271031T010000
END:STANDARD
END:VTIMEZONE
BEGIN:VEVENT
DTSTART;TZID=Europe/Paris:20260425T100000
DTEND;TZID=Europe/Paris:20260425T170000
DTSTAMP:20260425T031103
CREATED:20250108T164158Z
LAST-MODIFIED:20260205T093110Z
UID:35718-1777111200-1777136400@braunewell-wein.de
SUMMARY:Sektbörse Mainz | Traditionelle Sektmacher
DESCRIPTION:4. SEKTMACHER SEKTBÖRSE\n\nDas Spitzentreffen der deutschen Sektszene! \nAm 25.04.2026 im Kurfürstlichen Schloss zu Mainz \nVERKOSTUNG FÜR FACHHANDEL & PRESSE \nVerkostung 10 – 17 Uhr (nur akkreditierte Fachbesucher)\nFachbesucher-Akkreditierung hier \n  \nVERKOSTUNG FÜR SEKTLIEBHABER\, SCHAUMWEINFANS & BUBBLE FREAKS \nVerkostung 14 – 17 Uhr\nTickets für Weinliebhaber für 30\,00 EUR an der Tageskasse ab 14.00 Uhr.
URL:https://braunewell-wein.de/termine/sektboerse-traditionelle-sektmacher-2/
LOCATION:Kurfürstliches Schloss\, Peter-Altmeier-Allee 1\, Mainz\, 55116\, Deutschland
ATTACH;FMTTYPE=image/jpeg:https://braunewell-wein.de/wp-content/uploads/2022/05/Ocker-Spruch.jpg
END:VEVENT
BEGIN:VEVENT
DTSTART;TZID=Europe/Berlin:20260425T110000
DTEND;TZID=Europe/Berlin:20260425T160000
DTSTAMP:20260425T031103
CREATED:20260401T101343Z
LAST-MODIFIED:20260401T113401Z
UID:40280-1777114800-1777132800@braunewell-wein.de
SUMMARY:Great Wine Walk | in der Schuh Passion
DESCRIPTION:Nach der Premiere 2024 und der erfolgreichen Fortführung im vergangenen Jahr wird auch 2026 wieder der „Great Wine Walk“ in Mainz stattfinden. Am Samstag\, den 25. April 2026 – am Wochenende der VDP.Weinbörse – wird das samstägliche Schlendern durch die Mainzer City mit einem exklusiven Wine-Tasting im lokalen Einzelhandel verbunden. \nZwischen 11 und 16 Uhr kann man mit dem „Great Wine Walk“-Ticket durch die Mainzer Innenstadt schlendern\, erlesene Weine probieren und dabei in die individuellen Angebote und Services der teilnehmenden Einzelhandelsgeschäfte eintauchen. \nTickets gibt es ab dem 2.4. für je 25 Euro im mainz STORE (Markt 17 / Domplatz\, 55116 Mainz\, MO-SA 10-18 Uhr) und online unter www.mainz-store.com \nInkludiert sind 20 Probierschlücke\, ein hochwertiges Zwiesel-Weinglas\, eine praktische Weinglas-Umhängetasche sowie die kostenlose ÖPNV-Nutzung am Veranstaltungstag*.
URL:https://braunewell-wein.de/termine/great-wine-walk-in-der-schuh-passion/
LOCATION:Schuh Passion\, Augustinerstraße 33\, Mainz\, 55116\, Deutschland
ATTACH;FMTTYPE=image/png:https://braunewell-wein.de/wp-content/uploads/2026/03/GWW.png
ORGANIZER;CN="mainzplus CITYMARKETING":MAILTO:info@mainzplus.com
END:VEVENT
BEGIN:VEVENT
DTSTART;TZID=Europe/Berlin:20260425T110000
DTEND;TZID=Europe/Berlin:20260426T180000
DTSTAMP:20260425T031103
CREATED:20260330T150226Z
LAST-MODIFIED:20260330T150226Z
UID:40269-1777114800-1777226400@braunewell-wein.de
SUMMARY:Gastwinzer beim WEINBIET Frühjahrsfest
DESCRIPTION:Unsere FAIR’N GREEN Kollegen aus Neustadt stellen ihren neuen Weinjahrgang vor und wir dürfen als Gastwinzer mit dabei sein!\nEntdeckt den neuen Jahrgang 2025 \nAm 25.04. und 26.04. findet das Frühjahrsfest der Weinbiet Manufaktur statt. Im Mittelpunkt steht die Vorstellung des neuen Jahrgangs\, der im Rahmen einer umfangreichen Jahrgangsverkostung entdeckt werden kann. Gastwinzer präsentieren ihre Weine und geben dabei spannende Einblicke in ihr Handwerk. \nFrisch zubereitete Spargelgerichte\, die perfekt mit den Weinen harmonieren\, sorgen für kulinarischen Genuss. Am Sonntag schafft Live-Musik eine stimmungsvolle Atmosphäre. Für Kinder gibt es vielfältiges Familienprogramm. \nEin genussvolles Wochenende am Fuße des Weinbiets lädt dazu ein\, die Weine und die Menschen dahinter kennenzulernen und die besondere Verbindung von Tradition\, Handwerk und Pfälzer Gastlichkeit zu erleben.
URL:https://braunewell-wein.de/termine/gastwinzer-beim-weinbiet-fruehjahrsfest/
LOCATION:Weinbiet\, An der Eselshaut 57\, Neustadt/Weinstraße\, 67435\, Germany
ATTACH;FMTTYPE=image/png:https://braunewell-wein.de/wp-content/uploads/2026/03/Weinbiet.png
END:VEVENT
BEGIN:VEVENT
DTSTART;TZID=Europe/Paris:20260425T140000
DTEND;TZID=Europe/Paris:20260425T170000
DTSTAMP:20260425T031103
CREATED:20251023T095410Z
LAST-MODIFIED:20251023T095410Z
UID:38748-1777125600-1777136400@braunewell-wein.de
SUMMARY:VIN VIN | Weinmesse in Mainz
DESCRIPTION:Auf der VINVIN treffen sich Winzer:innen und Fachhändler:innen\, die auf Qualität und Authentizität setzen. Erleben Sie Weine\, die ihre Herkunft erzählen – aus den besten Lagen\, geprägt von Tradition und Innovation. Freuen Sie sich auf inspirierende Verkostungen\, spannende Gespräche und neue Partnerschaften\, die Ihr Sortiment bereichern.\n\n\n\n\n\n\n\n\n\n\n\n\n\nJETZT FACHBESUCHER-TICKET SICHERN
URL:https://braunewell-wein.de/termine/vin-vin-weinmesse-in-mainz/
LOCATION:Altes Postlager\, Mombacher Straße 11-15\, Mainz\, 55122\, Deutschland
ATTACH;FMTTYPE=image/jpeg:https://braunewell-wein.de/wp-content/uploads/2025/01/1.jpg
ORGANIZER;CN="Maxime Herkunft Rheinhessen":MAILTO:info@maxime-herkunft.de
END:VEVENT
END:VCALENDAR