BEGIN:VCALENDAR
VERSION:2.0
PRODID:-//Weingut Braunewell - ECPv6.15.18//NONSGML v1.0//EN
CALSCALE:GREGORIAN
METHOD:PUBLISH
X-WR-CALNAME:Weingut Braunewell
X-ORIGINAL-URL:https://braunewell-wein.de
X-WR-CALDESC:Veranstaltungen für Weingut Braunewell
REFRESH-INTERVAL;VALUE=DURATION:PT1H
X-Robots-Tag:noindex
X-PUBLISHED-TTL:PT1H
BEGIN:VTIMEZONE
TZID:Europe/Berlin
BEGIN:DAYLIGHT
TZOFFSETFROM:+0100
TZOFFSETTO:+0200
TZNAME:CEST
DTSTART:20250330T010000
END:DAYLIGHT
BEGIN:STANDARD
TZOFFSETFROM:+0200
TZOFFSETTO:+0100
TZNAME:CET
DTSTART:20251026T010000
END:STANDARD
BEGIN:DAYLIGHT
TZOFFSETFROM:+0100
TZOFFSETTO:+0200
TZNAME:CEST
DTSTART:20260329T010000
END:DAYLIGHT
BEGIN:STANDARD
TZOFFSETFROM:+0200
TZOFFSETTO:+0100
TZNAME:CET
DTSTART:20261025T010000
END:STANDARD
BEGIN:DAYLIGHT
TZOFFSETFROM:+0100
TZOFFSETTO:+0200
TZNAME:CEST
DTSTART:20270328T010000
END:DAYLIGHT
BEGIN:STANDARD
TZOFFSETFROM:+0200
TZOFFSETTO:+0100
TZNAME:CET
DTSTART:20271031T010000
END:STANDARD
END:VTIMEZONE
BEGIN:VTIMEZONE
TZID:Europe/Paris
BEGIN:DAYLIGHT
TZOFFSETFROM:+0100
TZOFFSETTO:+0200
TZNAME:CEST
DTSTART:20250330T010000
END:DAYLIGHT
BEGIN:STANDARD
TZOFFSETFROM:+0200
TZOFFSETTO:+0100
TZNAME:CET
DTSTART:20251026T010000
END:STANDARD
BEGIN:DAYLIGHT
TZOFFSETFROM:+0100
TZOFFSETTO:+0200
TZNAME:CEST
DTSTART:20260329T010000
END:DAYLIGHT
BEGIN:STANDARD
TZOFFSETFROM:+0200
TZOFFSETTO:+0100
TZNAME:CET
DTSTART:20261025T010000
END:STANDARD
BEGIN:DAYLIGHT
TZOFFSETFROM:+0100
TZOFFSETTO:+0200
TZNAME:CEST
DTSTART:20270328T010000
END:DAYLIGHT
BEGIN:STANDARD
TZOFFSETFROM:+0200
TZOFFSETTO:+0100
TZNAME:CET
DTSTART:20271031T010000
END:STANDARD
END:VTIMEZONE
BEGIN:VTIMEZONE
TZID:UTC
BEGIN:STANDARD
TZOFFSETFROM:+0000
TZOFFSETTO:+0000
TZNAME:UTC
DTSTART:20250101T000000
END:STANDARD
END:VTIMEZONE
BEGIN:VEVENT
DTSTART;TZID=Europe/Berlin:20260813T180000
DTEND;TZID=Europe/Berlin:20260813T230000
DTSTAMP:20260421T165917
CREATED:20251023T100456Z
LAST-MODIFIED:20251024T064236Z
UID:38746-1786644000-1786662000@braunewell-wein.de
SUMMARY:Weinbar Spezial | Schwein & Wein
DESCRIPTION:Wir laden ein\, zur „Weinbar Spezial“ auf dem Römerberg. \nUnser Freund Marcel kommt wie jedes Jahr mit seinen hausgemachten Spanferkeln aus der Westpfalz zu uns ins Weingut. Dazu servieren wir rustikale Brote und Salate. Eine vegetarische Alternative sowie etwas Süßes zum Abschluss darf ebenfalls nicht fehlen. \nDa wir für das Spanferkel entsprechend kalkulieren müssen\, beinhaltet die Anmeldung eine feste Buchung des Buffets. \nWir öffnen die Weinbar um 18.00 Uhr\, Buffet ab 19 Uhr. \nHier gehts zu den Tickets
URL:https://braunewell-wein.de/termine/weinbar-spezial-schwein-wein-2/
LOCATION:Weingut Braunewell\, Am Römerberg 34\, Essenheim\, Rheinland-Pfalz\, 55270\, Deutschland
ATTACH;FMTTYPE=image/png:https://braunewell-wein.de/wp-content/uploads/2025/10/Website-VA-Weinbar-Spezial.png
END:VEVENT
BEGIN:VEVENT
DTSTART;TZID=Europe/Paris:20260822T130000
DTEND;TZID=Europe/Paris:20260822T150000
DTSTAMP:20260421T165917
CREATED:20251023T100528Z
LAST-MODIFIED:20260219T100744Z
UID:38664-1787403600-1787410800@braunewell-wein.de
SUMMARY:Offene Betriebsführung und Weinprobe
DESCRIPTION:Wir laden Euch recht herzlich zur offenen Betriebsführung und Weinprobe zu uns ins Weingut ein – Erlebt über 350 Jahre Familien Weinbautradition. \nBei einem Rundgang durch unser Weingut erhaltet Ihr einen Einblick in unsere Leidenschaft. Hand in Hand\, mit viel Liebe zum Detail entstehen Weine\, die ihr Handwerk und ihre Heimat nicht verleugnen können. \nWir beginnen unsere Tour in unserem Sektkeller. Hier lernt Ihr unter anderem die traditionellen Sektmacher Methoden kennen. Nach einem Blick in unsere Schatzkammern\, in der wir gereifte Weine bis Jahrgang 1972 aufbewahren\, gelangen wir durch unseren Stahltankkeller in unseren charmanten Holzfasskeller. Auf unserem Rundgang erfahrt Ihr mehr über die Geschichte des Weinguts und wie sie sich im Wein widerspiegelt. Als Abschluss unserer Tour werden wir unserer Verkostung in unsere Vinothek ausklingen lassen. \nBetriebsführung & Verkostung: 25 € pro Person \nBitte rechtzeitig hier reservieren\, die Teilnehmerzahl ist begrenzt. \nWir freuen uns auf Eure Anmeldung und Besuch bei uns im Weingut.
URL:https://braunewell-wein.de/termine/offene-betriebsfuehrung-und-weinprobe-20/
LOCATION:Weingut Braunewell\, Am Römerberg 34\, Essenheim\, Rheinland-Pfalz\, 55270\, Deutschland
ATTACH;FMTTYPE=image/png:https://braunewell-wein.de/wp-content/uploads/2025/10/Website-VA-Schatzkammer-Tasting.png
ORGANIZER;CN="Weingut Braunewell":MAILTO:info@weingut-braunewell.de
END:VEVENT
BEGIN:VEVENT
DTSTART;VALUE=DATE:20260827
DTEND;VALUE=DATE:20260907
DTSTAMP:20260421T165917
CREATED:20251023T100647Z
LAST-MODIFIED:20251023T100647Z
UID:38690-1787788800-1788739199@braunewell-wein.de
SUMMARY:Mainzer Weinmarkt
DESCRIPTION:Die einzigartige Atmosphäre im Mainzer Stadtpark lädt Besucher zum Verweilen ein. Neben den regionalen Winzern und ihrem Weinangebot kommen auch Genießer der Kulinarik und Musik nicht zu kurz. Ein abwechslungsreiches Bühnenprogramm rundet den Besuch in Mainz ab. \nDie Öffnungszeiten sind jeweils von Donnerstag bis Sonntag 27.-30. August und 03.-06. September. \nWir freuen uns auf Ihren Besuch an unserem Stand! \n  \n 
URL:https://braunewell-wein.de/termine/mainzer-weinmarkt-3/
LOCATION:Mainzer Weinmarkt\, An der Favorite\, Mainz\, 55131\, Deutschland
ATTACH;FMTTYPE=image/png:https://braunewell-wein.de/wp-content/uploads/2025/10/Website-VA-Schatzkammer-Tasting-7.png
ORGANIZER;CN="Braunewell I Dinter":MAILTO:info@braunewell-dinter,de
END:VEVENT
BEGIN:VEVENT
DTSTART;TZID=Europe/Berlin:20260910T180000
DTEND;TZID=Europe/Berlin:20260910T230000
DTSTAMP:20260421T165917
CREATED:20260213T103237Z
LAST-MODIFIED:20260213T103237Z
UID:39949-1789063200-1789081200@braunewell-wein.de
SUMMARY:Weinbar auf dem Römerberg
DESCRIPTION:After Work get-together im Weingut\nWir laden Euch ein in entspannter Atmosphäre unsere Weine und Sekte in unserer Vinothek und auf unserer Terrasse zu genießen. Die ein oder andere Rarität aus unserem Keller darf natürlich auch nicht fehlen. \nVon kleinen Snacks\, über Weinfestklassiker oder Street-Food-Klassiker. Jede Weinbar hält für Euch unterschiedliche Angebote bereit und wir freuen uns Spinnlers Streetfood in dieser Saison als Partner begrüßen zu dürfen. \nEs ist keine Anmeldung erforderlich. Vorbeikommen und Spaß haben. \nWir freuen uns über Euren Besuch! \n  \n  \n \n  \n  \n 
URL:https://braunewell-wein.de/termine/weinbar-auf-dem-roemerberg-10/
LOCATION:Weingut Braunewell\, Am Römerberg 34\, Essenheim\, Rheinland-Pfalz\, 55270\, Deutschland
ATTACH;FMTTYPE=image/png:https://braunewell-wein.de/wp-content/uploads/2025/10/Website-VA-Schatzkammer-Tasting-6.png
ORGANIZER;CN="Weingut Braunewell":MAILTO:info@weingut-braunewell.de
END:VEVENT
BEGIN:VEVENT
DTSTART;TZID=Europe/Berlin:20260919T123000
DTEND;TZID=Europe/Berlin:20260919T150000
DTSTAMP:20260421T165917
CREATED:20251023T100251Z
LAST-MODIFIED:20260219T100135Z
UID:38676-1789821000-1789830000@braunewell-wein.de
SUMMARY:Weinbergswanderung mit Weinprobe
DESCRIPTION:Wir laden Euch recht herzlich zur Weinbergswanderung und Weinprobe zu uns ins Weingut ein. \nFür die Qualität eines Weines ist die Herkunft von großer Bedeutung. Der Boden auf dem die Reben wachsen ist Lebensgrundlage und verwaltet Nährstoffzufuhr\, Wasserhaushalt und Temperatur. Mit dem Selztal haben wir einen besonderen Flecken Erde\, der durch Kalkböden mit schwerem Ton\, kargem Gestein oder festem Mergel geprägt ist. Eigenschaften\, die unseren Weinen ihren außergewöhnlichen Charakter verleihen. \nWir nehmen Euch mit auf einen Spaziergang durch unsere Weinberge\, um Euch genau diese Aspekte zu veranschaulichen. Der Rucksack ist gepackt mit einer spannenden Weinauswahl\, um Euch direkt vor Ort die Auswirkungen der Lagen\, des Klimas und der Böden im Glas zu verdeutlichen. \nWeinbergswanderung & Verkostung: 25€ pro Person \nBitte rechtzeitig hier reservieren\, die Teilnehmerzahl ist begrenzt. \nAnmeldungen unter 06136 – 9999100 oder per E-Mail info@weingut-braunewell.de \n  \nWir freuen uns auf Eure Anmeldung und Euren Besuch bei uns im Weingut.
URL:https://braunewell-wein.de/termine/weinbergswanderung-mit-weinprobe-12/
LOCATION:Weingut Braunewell\, Am Römerberg 34\, Essenheim\, Rheinland-Pfalz\, 55270\, Deutschland
ATTACH;FMTTYPE=image/png:https://braunewell-wein.de/wp-content/uploads/2025/10/Website-VA-Schatzkammer-Tasting-5.png
ORGANIZER;CN="Weingut Braunewell":MAILTO:info@weingut-braunewell.de
END:VEVENT
BEGIN:VEVENT
DTSTART;TZID=UTC:20260925T180000
DTEND;TZID=UTC:20260925T180000
DTSTAMP:20260421T165917
CREATED:20260218T160812Z
LAST-MODIFIED:20260410T091739Z
UID:40006-1790359200-1790359200@braunewell-wein.de
SUMMARY:Maus meets Braunewell & Gres
DESCRIPTION:25. September 2026 – Maus meets Braunewell & Gres\n4 Gänge Weinmenu inkl. korrespondierender Weine – 129 € / Person\nOrt: Sandhof\, Dirk Maus\, Ingelheim OT Heidesheim\, Rheinhessen\nReservierung: Sandhof 06132 – 43 68 333\nInfo: www.dirk-maus.de
URL:https://braunewell-wein.de/termine/maus-meets-braunewell-gres-3/
LOCATION:Sandhof\, Sandhof 7\, Heidesheim\, Rheinland-Pfalz\, 55262\, Deutschland
ATTACH;FMTTYPE=image/png:https://braunewell-wein.de/wp-content/uploads/2017/01/sandhof.png
END:VEVENT
BEGIN:VEVENT
DTSTART;TZID=Europe/Berlin:20261001T190000
DTEND;TZID=Europe/Berlin:20261001T220000
DTSTAMP:20260421T165917
CREATED:20260218T152617Z
LAST-MODIFIED:20260227T124234Z
UID:39990-1790881200-1790892000@braunewell-wein.de
SUMMARY:VINOMAGICUM
DESCRIPTION:Erleben Sie die Fusion von exquisiter Zauberkunst und edlen Weinen! \nIn unserer Vinothek erwartet Sie ab Herbst 2026 die dritte Auflage unserer magischen Weinprobe\, einer einzigartigen Kombination aus Zauberkunst\, moderierter Weinprobe und rheinhessischem Abendmahl – herzlich willkommen im Vinomagicum!\n \nOliver de Luca verzaubert Sie mit verblüffenden Zaubertricks in lockerer Tischrunde. Doch Vinomagicum ist mehr als eine Show – es ist eine Sinnesreise\, bei der wir Sie einladen\, Zauberkunst und Wein auf ganz neue Art zu erleben. \nDazu präsentiert Stefan Braunewell eine sorgfältig kuratierte Weinauswahl\, die die Vielfalt und Qualität des Weinguts widerspiegelt. Tauchen Sie ein in Aromen und Nuancen und entdecken Sie die Geschichten hinter jedem Tropfen. Dazu erwartet Sie ein auf die Weine abgestimmtes rheinhessisches Abendmahl. \nVinomagicum verspricht nicht nur ein unvergessliches Erlebnis voller Staunen und Genuss. Es bietet auch die Möglichkeit\, mehr über Wein\, Rheinhessen und sich selbst zu erfahren. \nSeien Sie Teil dieser magischen Reise und lassen Sie sich von Vinomagicum verführen – ein Abend voller Zauber\, Wein und unvergesslicher Momente! \nTermine 2026:  22.1. / 26.2. / 26.3. / 23.4. / 1.10. / 29.10. / 12.11. / 26.11. \nReservierung mit Terminwunsch und Personenzahl per E-Mail an info@vinomagicum.de\, per Telefon unter 06131-468353 oder über die Online-Reservierung https://ticketshop.oliverdeluca.de/weingut-braunewell
URL:https://braunewell-wein.de/termine/vinomagicum-9/
LOCATION:Weingut Braunewell\, Am Römerberg 34\, Essenheim\, Rheinland-Pfalz\, 55270\, Deutschland
ATTACH;FMTTYPE=image/png:https://braunewell-wein.de/wp-content/uploads/2024/07/Vinomagicum.png
ORGANIZER;CN="Oliver De Luca":MAILTO:info@oliverdeluca.de
END:VEVENT
BEGIN:VEVENT
DTSTART;TZID=Europe/Berlin:20261022T190000
DTEND;TZID=Europe/Berlin:20261022T223000
DTSTAMP:20260421T165917
CREATED:20251211T135933Z
LAST-MODIFIED:20251222T103553Z
UID:39481-1792695600-1792708200@braunewell-wein.de
SUMMARY:Tasting | Sushi & Wein
DESCRIPTION:  \nSushi und Wein? Das passt perfekt! \nWie? Das zeigen Stefan Braunewell und Sushimeister Niten Ghimire von der Weinbar | Sushi-Lounge des Favorite Parkhotels in Mainz \nam 19. März 2026 in der Weinbar | Sushi-Lounge in Mainz \nam 22. Oktober 2026 in der Vinothek von Weingut Braunewell in Essenheim \n  \nEuch erwartet ein genussvoller Abend und spannende Entdeckungen zum Thema Wein als Begleitung zu verschiedensten Sushi-Variationen. \nWein & Essen sind inklusive \npro Person 85€ \nJetzt hier reservieren
URL:https://braunewell-wein.de/termine/tasting-sushi-wein-2/
ATTACH;FMTTYPE=image/png:https://braunewell-wein.de/wp-content/uploads/2025/12/Website-VA-Schatzkammer-Tasting-5.png
END:VEVENT
BEGIN:VEVENT
DTSTART;TZID=Europe/Paris:20261024T130000
DTEND;TZID=Europe/Paris:20261024T150000
DTSTAMP:20260421T165917
CREATED:20251023T100551Z
LAST-MODIFIED:20260219T100843Z
UID:38666-1792846800-1792854000@braunewell-wein.de
SUMMARY:Offene Betriebsführung und Weinprobe
DESCRIPTION:Wir laden Euch recht herzlich zur offenen Betriebsführung und Weinprobe zu uns ins Weingut ein – Erlebt Sie über 350 Jahre Familien Weinbautradition. \nBei einem Rundgang durch unser Weingut erhaltet Ihr einen Einblick in unsere Leidenschaft. Hand in Hand\, mit viel Liebe zum Detail entstehen Weine\, die ihr Handwerk und ihre Heimat nicht verleugnen können. \nWir beginnen unsere Tour in unserem Sektkeller. Hier lernt Ihr unter anderem die traditionellen Sektmacher Methoden kennen. Nach einem Blick in unsere Schatzkammern\, in der wir gereifte Weine bis Jahrgang 1972 aufbewahren\, gelangen wir durch unseren Stahltankkeller in unseren charmanten Holzfasskeller. Auf unserem Rundgang erfahrt Ihr mehr über die Geschichte des Weinguts und wie sie sich im Wein widerspiegelt. Als Abschluss unserer Tour werden wir unsere Verkostung in unserer Vinothek ausklingen lassen. \nBetriebsführung & Verkostung: 25 € pro Person \nBitte rechtzeitig hier reservieren\, die Teilnehmerzahl ist begrenzt. \nWir freuen uns auf Eure Anmeldung und Besuch bei uns im Weingut.
URL:https://braunewell-wein.de/termine/offene-betriebsfuehrung-und-weinprobe-21/
LOCATION:Weingut Braunewell\, Am Römerberg 34\, Essenheim\, Rheinland-Pfalz\, 55270\, Deutschland
ATTACH;FMTTYPE=image/png:https://braunewell-wein.de/wp-content/uploads/2025/10/Website-VA-Schatzkammer-Tasting.png
ORGANIZER;CN="Weingut Braunewell":MAILTO:info@weingut-braunewell.de
END:VEVENT
BEGIN:VEVENT
DTSTART;TZID=Europe/Berlin:20261029T190000
DTEND;TZID=Europe/Berlin:20261029T220000
DTSTAMP:20260421T165917
CREATED:20260218T152656Z
LAST-MODIFIED:20260227T124305Z
UID:39993-1793300400-1793311200@braunewell-wein.de
SUMMARY:VINOMAGICUM
DESCRIPTION:Erleben Sie die Fusion von exquisiter Zauberkunst und edlen Weinen! \nIn unserer Vinothek erwartet Sie ab Herbst 2026 die dritte Auflage unserer magischen Weinprobe\, einer einzigartigen Kombination aus Zauberkunst\, moderierter Weinprobe und rheinhessischem Abendmahl – herzlich willkommen im Vinomagicum!\n \nOliver de Luca verzaubert Sie mit verblüffenden Zaubertricks in lockerer Tischrunde. Doch Vinomagicum ist mehr als eine Show – es ist eine Sinnesreise\, bei der wir Sie einladen\, Zauberkunst und Wein auf ganz neue Art zu erleben. \nDazu präsentiert Stefan Braunewell eine sorgfältig kuratierte Weinauswahl\, die die Vielfalt und Qualität des Weinguts widerspiegelt. Tauchen Sie ein in Aromen und Nuancen und entdecken Sie die Geschichten hinter jedem Tropfen. Dazu erwartet Sie ein auf die Weine abgestimmtes rheinhessisches Abendmahl. \nVinomagicum verspricht nicht nur ein unvergessliches Erlebnis voller Staunen und Genuss. Es bietet auch die Möglichkeit\, mehr über Wein\, Rheinhessen und sich selbst zu erfahren. \nSeien Sie Teil dieser magischen Reise und lassen Sie sich von Vinomagicum verführen – ein Abend voller Zauber\, Wein und unvergesslicher Momente! \nTermine 2026: 22.1. / 26.2. / 26.3. / 23.4. / 1.10. / 29.10. / 12.11. / 26.11. \nReservierung mit Terminwunsch und Personenzahl per E-Mail an info@vinomagicum.de\, per Telefon unter 06131-468353 oder über die Online-Reservierung https://ticketshop.oliverdeluca.de/weingut-braunewell
URL:https://braunewell-wein.de/termine/vinomagicum-10/
LOCATION:Weingut Braunewell\, Am Römerberg 34\, Essenheim\, Rheinland-Pfalz\, 55270\, Deutschland
ATTACH;FMTTYPE=image/png:https://braunewell-wein.de/wp-content/uploads/2024/07/Vinomagicum.png
ORGANIZER;CN="Oliver De Luca":MAILTO:info@oliverdeluca.de
END:VEVENT
BEGIN:VEVENT
DTSTART;TZID=UTC:20261106T150000
DTEND;TZID=UTC:20261107T210000
DTSTAMP:20260421T165917
CREATED:20260219T103358Z
LAST-MODIFIED:20260219T103358Z
UID:40035-1793977200-1794085200@braunewell-wein.de
SUMMARY:WeinForum - Laupheim
DESCRIPTION:Die WEINZENTRALE Eberle // Laupheim lädt zur Internationalen Weinmesse! \nBraunewell ist mit dabei!
URL:https://braunewell-wein.de/termine/weinforum-laupheim-5/
LOCATION:Weinzentrale Eberle GmbH\, Berblingerstraße 20\, Laupheim\, 88471\, Deutschland
ATTACH;FMTTYPE=image/png:https://braunewell-wein.de/wp-content/uploads/2026/02/Eberle.png
ORGANIZER;CN="Weinzentrale":MAILTO:info@weinzentrale.de
END:VEVENT
BEGIN:VEVENT
DTSTART;TZID=Europe/Berlin:20261107T130000
DTEND;TZID=Europe/Berlin:20261107T180000
DTSTAMP:20260421T165917
CREATED:20241102T092142Z
LAST-MODIFIED:20251016T135420Z
UID:35196-1794056400-1794074400@braunewell-wein.de
SUMMARY:Jahrgangsverkostung
DESCRIPTION:Jahrgangsverkostung \nWir stellen Euch zur Jahrgangsverkostung am 7. & 8. November 2026  jeweils von 13-18 Uhr unsere komplette Weinkollektion in den kühlen Weinkellern vor. \nVerkostet exklusiv die neuen Lagenweine aus TEUFELSPFAD\, BLUME und KLOPP sowie die neuen Weine aus der RÉSERVE Linie. \nFood-Klassiker gibt es aus unserer Gutsküche. \nDie Verkostung ist unkompliziert\, einfach vorbeikommen\, Glas schnappen und losprobieren!\nEine Anmeldung ist nicht notwendig. \nWir freuen uns über Euren Besuch. \nFamilie & Team Braunewell \n  \n\nCharakterweine mit Ecken & Kanten\nMade with ♥ in Essenheim\nRheinhessen   \n  \n     \n  \n 
URL:https://braunewell-wein.de/termine/jahrgangsverkostung-7/
LOCATION:Weingut Braunewell\, Am Römerberg 34\, Essenheim\, Rheinland-Pfalz\, 55270\, Deutschland
ATTACH;FMTTYPE=image/png:https://braunewell-wein.de/wp-content/uploads/2024/11/Website-VA-Jahrgangsverkostung.png
END:VEVENT
BEGIN:VEVENT
DTSTART;TZID=Europe/Berlin:20261108T130000
DTEND;TZID=Europe/Berlin:20261108T180000
DTSTAMP:20260421T165917
CREATED:20241102T092239Z
LAST-MODIFIED:20251016T135514Z
UID:35198-1794142800-1794160800@braunewell-wein.de
SUMMARY:Jahrgangsverkostung
DESCRIPTION:Jahrgangsverkostung \nWir stellen Euch zur Jahrgangsverkostung am 7. & 8. November 2026  jeweils von 13-18 Uhr unsere komplette Weinkollektion in den kühlen Weinkellern vor. \nVerkostet exklusiv die neuen Lagenweine aus TEUFELSPFAD\, BLUME und KLOPP sowie die neuen Weine aus der RÉSERVE Linie. \nFood-Klassiker gibt es aus unserer Gutsküche. \nDie Verkostung ist unkompliziert\, einfach vorbeikommen\, Glas schnappen und losprobieren!\nEine Anmeldung ist nicht notwendig. \nWir freuen uns über Euren Besuch. \nFamilie & Team Braunewell \n  \n\nCharakterweine mit Ecken & Kanten\nMade with ♥ in Essenheim\nRheinhessen   \n  \n     \n  \n 
URL:https://braunewell-wein.de/termine/jahrgangsverkostung-8/
LOCATION:Weingut Braunewell\, Am Römerberg 34\, Essenheim\, Rheinland-Pfalz\, 55270\, Deutschland
ATTACH;FMTTYPE=image/png:https://braunewell-wein.de/wp-content/uploads/2024/11/Website-VA-Jahrgangsverkostung.png
END:VEVENT
BEGIN:VEVENT
DTSTART;TZID=Europe/Berlin:20261112T190000
DTEND;TZID=Europe/Berlin:20261112T220000
DTSTAMP:20260421T165917
CREATED:20260218T152719Z
LAST-MODIFIED:20260227T124335Z
UID:39995-1794510000-1794520800@braunewell-wein.de
SUMMARY:VINOMAGICUM
DESCRIPTION:Erleben Sie die Fusion von exquisiter Zauberkunst und edlen Weinen! \nIn unserer Vinothek erwartet Sie ab Herbst 2026 die dritte Auflage unserer magischen Weinprobe\, einer einzigartigen Kombination aus Zauberkunst\, moderierter Weinprobe und rheinhessischem Abendmahl – herzlich willkommen im Vinomagicum!\n \nOliver de Luca verzaubert Sie mit verblüffenden Zaubertricks in lockerer Tischrunde. Doch Vinomagicum ist mehr als eine Show – es ist eine Sinnesreise\, bei der wir Sie einladen\, Zauberkunst und Wein auf ganz neue Art zu erleben. \nDazu präsentiert Stefan Braunewell eine sorgfältig kuratierte Weinauswahl\, die die Vielfalt und Qualität des Weinguts widerspiegelt. Tauchen Sie ein in Aromen und Nuancen und entdecken Sie die Geschichten hinter jedem Tropfen. Dazu erwartet Sie ein auf die Weine abgestimmtes rheinhessisches Abendmahl. \nVinomagicum verspricht nicht nur ein unvergessliches Erlebnis voller Staunen und Genuss. Es bietet auch die Möglichkeit\, mehr über Wein\, Rheinhessen und sich selbst zu erfahren. \nSeien Sie Teil dieser magischen Reise und lassen Sie sich von Vinomagicum verführen – ein Abend voller Zauber\, Wein und unvergesslicher Momente! \nTermine 2026:  22.1. / 26.2. / 26.3. / 23.4. / 1.10. / 29.10. / 12.11. / 26.11. \nReservierung mit Terminwunsch und Personenzahl per E-Mail an info@vinomagicum.de\, per Telefon unter 06131-468353 oder über die Online-Reservierung https://ticketshop.oliverdeluca.de/weingut-braunewell
URL:https://braunewell-wein.de/termine/vinomagicum-11/
LOCATION:Weingut Braunewell\, Am Römerberg 34\, Essenheim\, Rheinland-Pfalz\, 55270\, Deutschland
ATTACH;FMTTYPE=image/png:https://braunewell-wein.de/wp-content/uploads/2024/07/Vinomagicum.png
ORGANIZER;CN="Oliver De Luca":MAILTO:info@oliverdeluca.de
END:VEVENT
BEGIN:VEVENT
DTSTART;TZID=Europe/Berlin:20261119T153000
DTEND;TZID=Europe/Berlin:20261119T170000
DTSTAMP:20260421T165917
CREATED:20251023T100727Z
LAST-MODIFIED:20260219T101434Z
UID:38698-1795102200-1795107600@braunewell-wein.de
SUMMARY:Tasting | Pinot Vertikale
DESCRIPTION:Pinot Vertikale Tasting im Weingut Braunewell \nZehn Jahrgänge\, eine Rebsorte\, unzählige Facetten: \nUnsere Spätburgunder-Vertikale führt Euch durch zehn Jahre Weinhandwerk\, Leidenschaft und Terroir. Entdeckt\, wie sich Reife und Zeit im Glas widerspiegeln – ein Erlebnis für alle\, die Pinot Noir in seiner ganzen Tiefe und Vielfalt schätzen. \n \nDas erwartet Euch:  \n\nSektempfang \nBlick in die Schatzkammern\n10 exklusive Spätburgunder-Jahrgänge aus der Schatzkammer \nErlebt über 350 Jahre Familien-Weinbautradition \nDie Geschichte des Weinguts und wie sie sich im Wein widerspiegelt \nWasser & Tastingvesper® inklusive \n\nDauer: ca. 3 bis 3\,5 Stunden  \nPlätze: max. 25 Plätze\, mindestens 8 Personen \nJetzt hier reservieren
URL:https://braunewell-wein.de/termine/tasting-pinot-vertikale/
ATTACH;FMTTYPE=image/png:https://braunewell-wein.de/wp-content/uploads/2025/10/Website-VA-Vertikale-Tasting.png
END:VEVENT
BEGIN:VEVENT
DTSTART;TZID=Europe/Berlin:20261126T190000
DTEND;TZID=Europe/Berlin:20261126T220000
DTSTAMP:20260421T165917
CREATED:20260218T152742Z
LAST-MODIFIED:20260227T124404Z
UID:39998-1795719600-1795730400@braunewell-wein.de
SUMMARY:VINOMAGICUM
DESCRIPTION:Erleben Sie die Fusion von exquisiter Zauberkunst und edlen Weinen! \nIn unserer Vinothek erwartet Sie ab Herbst 2026 die dritte Auflage unserer magischen Weinprobe\, einer einzigartigen Kombination aus Zauberkunst\, moderierter Weinprobe und rheinhessischem Abendmahl – herzlich willkommen im Vinomagicum!\n \nOliver de Luca verzaubert Sie mit verblüffenden Zaubertricks in lockerer Tischrunde. Doch Vinomagicum ist mehr als eine Show – es ist eine Sinnesreise\, bei der wir Sie einladen\, Zauberkunst und Wein auf ganz neue Art zu erleben. \nDazu präsentiert Stefan Braunewell eine sorgfältig kuratierte Weinauswahl\, die die Vielfalt und Qualität des Weinguts widerspiegelt. Tauchen Sie ein in Aromen und Nuancen und entdecken Sie die Geschichten hinter jedem Tropfen. Dazu erwartet Sie ein auf die Weine abgestimmtes rheinhessisches Abendmahl. \nVinomagicum verspricht nicht nur ein unvergessliches Erlebnis voller Staunen und Genuss. Es bietet auch die Möglichkeit\, mehr über Wein\, Rheinhessen und sich selbst zu erfahren. \nSeien Sie Teil dieser magischen Reise und lassen Sie sich von Vinomagicum verführen – ein Abend voller Zauber\, Wein und unvergesslicher Momente! \nTermine 2026: 22.1. / 26.2. / 26.3. / 23.4. / 1.10. / 29.10. / 12.11. / 26.11. \nReservierung mit Terminwunsch und Personenzahl per E-Mail an info@vinomagicum.de\, per Telefon unter 06131-468353 oder über die Online-Reservierung https://ticketshop.oliverdeluca.de/weingut-braunewell
URL:https://braunewell-wein.de/termine/vinomagicum-12/
LOCATION:Weingut Braunewell\, Am Römerberg 34\, Essenheim\, Rheinland-Pfalz\, 55270\, Deutschland
ATTACH;FMTTYPE=image/png:https://braunewell-wein.de/wp-content/uploads/2024/07/Vinomagicum.png
ORGANIZER;CN="Oliver De Luca":MAILTO:info@oliverdeluca.de
END:VEVENT
BEGIN:VEVENT
DTSTART;TZID=Europe/Paris:20261128T130000
DTEND;TZID=Europe/Paris:20261128T150000
DTSTAMP:20260421T165917
CREATED:20251023T100611Z
LAST-MODIFIED:20260219T100933Z
UID:38668-1795870800-1795878000@braunewell-wein.de
SUMMARY:Offene Betriebsführung und Weinprobe
DESCRIPTION:Wir laden Euch recht herzlich zur offenen Betriebsführung und Weinprobe zu uns ins Weingut ein – Erlebt Sie über 350 Jahre Familien Weinbautradition. \nBei einem Rundgang durch unser Weingut erhaltet Ihr einen Einblick in unsere Leidenschaft. Hand in Hand\, mit viel Liebe zum Detail entstehen Weine\, die ihr Handwerk und ihre Heimat nicht verleugnen können. \nWir beginnen unsere Tour in unserem Sektkeller. Hier lernt Ihr unter anderem die traditionellen Sektmacher Methoden kennen. Nach einem Blick in unsere Schatzkammern\, in der wir gereifte Weine bis Jahrgang 1972 aufbewahren\, gelangen wir durch unseren Stahltankkeller in unseren charmanten Holzfasskeller. Auf unserem Rundgang erfahrt Ihr mehr über die Geschichte des Weinguts und wie sie sich im Wein widerspiegelt. Als Abschluss unserer Tour werden wir unserer Verkostung in unsere Vinothek ausklingen lassen. \nBetriebsführung & Verkostung: 25 € pro Person \nBitte rechtzeitig hier reservieren\, die Teilnehmerzahl ist begrenzt. \nWir freuen uns auf Eure Anmeldung und Besuch bei uns im Weingut.
URL:https://braunewell-wein.de/termine/offene-betriebsfuehrung-und-weinprobe-22/
LOCATION:Weingut Braunewell\, Am Römerberg 34\, Essenheim\, Rheinland-Pfalz\, 55270\, Deutschland
ATTACH;FMTTYPE=image/png:https://braunewell-wein.de/wp-content/uploads/2025/10/Website-VA-Schatzkammer-Tasting.png
ORGANIZER;CN="Weingut Braunewell":MAILTO:info@weingut-braunewell.de
END:VEVENT
BEGIN:VEVENT
DTSTART;TZID=Europe/Paris:20261203T183000
DTEND;TZID=Europe/Paris:20261203T213000
DTSTAMP:20260421T165917
CREATED:20251023T100832Z
LAST-MODIFIED:20260219T102056Z
UID:38702-1796322600-1796333400@braunewell-wein.de
SUMMARY:Tasting | Sekt
DESCRIPTION:Bubbles\, bubbles\, bubbles\nTirage\, Dosage\, Degorgierung\, Méthode traditionelle – Begriffe\, die Ihr vielleicht schon mal gehört habt\, aber nicht genau wisst\, was es damit auf sich hat? Wir wollen Euch einen Einblick in unsere Schaumweinbereitung geben\, von der Rebe bis zur fertigen Flasche.  \n \nDas erwartet Euch: \n\nSektempfang vor dem Tasting\nBlick in unseren Sektkeller\nAlles Wissenswerte zur Herstellung und Auswahl von geeigneten Grundweinen \nVerkostung von Rohsekten/Sektgrundweinen \nErläuterung und Hintergründe der zweiten Gärung\, dem Rütteln und Degorgierung \n\n\nVerkostung und Hintergrundinformationen zu unserer Sektlinie \n\n\nWasser & Tastingvesper®\n\nDauer: ca. 3 Stunden \nPlätze: max. 25 Personen\, mind. 8 Personen \nOrt: Vinothek\, Weingut Braunewell \nJetzt hier reservieren
URL:https://braunewell-wein.de/termine/tasting-sekt-5/
LOCATION:Vinothek\, Am Römerberg 34\, Essenheim\, 55270\, Deutschland
ATTACH;FMTTYPE=image/png:https://braunewell-wein.de/wp-content/uploads/2025/10/Website-VA-Schatzkammer-Tasting-8.png
ORGANIZER;CN="Weingut Braunewell":MAILTO:info@weingut-braunewell.de
END:VEVENT
BEGIN:VEVENT
DTSTART;TZID=UTC:20261213T140000
DTEND;TZID=UTC:20261213T180000
DTSTAMP:20260421T165917
CREATED:20251023T100850Z
LAST-MODIFIED:20260219T103756Z
UID:38705-1797170400-1797184800@braunewell-wein.de
SUMMARY:Entspannt im Advent
DESCRIPTION:Kennt Ihr das? \nStress in der Vorweihnachtszeit\, schnell noch die letzten Sachen vor Jahresende im Büro erledigen\, jeden Abend Termine\, Weihnachtsessen\, Vereinsfeier\, Weihnachtsmarkt\, etc. \nBei uns könnt Ihr in ruhiger Atmosphäre die Adventstage genießen. \nVerkostet unsere Weine und Sekte ganz entspannt am Sonntag im Advent von 14 bis 18 Uhr im Weingut.
URL:https://braunewell-wein.de/termine/entspannt-im-advent-6/
LOCATION:Weingut Braunewell\, Am Römerberg 34\, Essenheim\, Rheinland-Pfalz\, 55270\, Deutschland
ATTACH;FMTTYPE=image/png:https://braunewell-wein.de/wp-content/uploads/2025/10/Website-VA-Entspannt-im-Advent.png
END:VEVENT
END:VCALENDAR