BEGIN:VCALENDAR
VERSION:2.0
PRODID:-//Weingut Braunewell - ECPv6.15.18//NONSGML v1.0//EN
CALSCALE:GREGORIAN
METHOD:PUBLISH
X-ORIGINAL-URL:https://braunewell-wein.de
X-WR-CALDESC:Veranstaltungen für Weingut Braunewell
REFRESH-INTERVAL;VALUE=DURATION:PT1H
X-Robots-Tag:noindex
X-PUBLISHED-TTL:PT1H
BEGIN:VTIMEZONE
TZID:Europe/Berlin
BEGIN:DAYLIGHT
TZOFFSETFROM:+0100
TZOFFSETTO:+0200
TZNAME:CEST
DTSTART:20250330T010000
END:DAYLIGHT
BEGIN:STANDARD
TZOFFSETFROM:+0200
TZOFFSETTO:+0100
TZNAME:CET
DTSTART:20251026T010000
END:STANDARD
BEGIN:DAYLIGHT
TZOFFSETFROM:+0100
TZOFFSETTO:+0200
TZNAME:CEST
DTSTART:20260329T010000
END:DAYLIGHT
BEGIN:STANDARD
TZOFFSETFROM:+0200
TZOFFSETTO:+0100
TZNAME:CET
DTSTART:20261025T010000
END:STANDARD
BEGIN:DAYLIGHT
TZOFFSETFROM:+0100
TZOFFSETTO:+0200
TZNAME:CEST
DTSTART:20270328T010000
END:DAYLIGHT
BEGIN:STANDARD
TZOFFSETFROM:+0200
TZOFFSETTO:+0100
TZNAME:CET
DTSTART:20271031T010000
END:STANDARD
END:VTIMEZONE
BEGIN:VTIMEZONE
TZID:Europe/Paris
BEGIN:DAYLIGHT
TZOFFSETFROM:+0100
TZOFFSETTO:+0200
TZNAME:CEST
DTSTART:20250330T010000
END:DAYLIGHT
BEGIN:STANDARD
TZOFFSETFROM:+0200
TZOFFSETTO:+0100
TZNAME:CET
DTSTART:20251026T010000
END:STANDARD
BEGIN:DAYLIGHT
TZOFFSETFROM:+0100
TZOFFSETTO:+0200
TZNAME:CEST
DTSTART:20260329T010000
END:DAYLIGHT
BEGIN:STANDARD
TZOFFSETFROM:+0200
TZOFFSETTO:+0100
TZNAME:CET
DTSTART:20261025T010000
END:STANDARD
BEGIN:DAYLIGHT
TZOFFSETFROM:+0100
TZOFFSETTO:+0200
TZNAME:CEST
DTSTART:20270328T010000
END:DAYLIGHT
BEGIN:STANDARD
TZOFFSETFROM:+0200
TZOFFSETTO:+0100
TZNAME:CET
DTSTART:20271031T010000
END:STANDARD
END:VTIMEZONE
BEGIN:VEVENT
DTSTART;TZID=Europe/Berlin:20260122T190000
DTEND;TZID=Europe/Berlin:20260122T220000
DTSTAMP:20260425T195948
CREATED:20250514T183616Z
LAST-MODIFIED:20250519T090819Z
UID:36630-1769108400-1769119200@braunewell-wein.de
SUMMARY:VINOMAGICUM
DESCRIPTION:Erleben Sie die Fusion von exquisiter Zauberkunst und edlen Weinen! \nIn unserer Vinothek erwartet Sie ab Herbst 2025 die zweite Auflage unserer magischen Weinprobe\, einer einzigartigen Kombination aus Zauberkunst\, moderierter Weinprobe und rheinhessischem Abendmahl – herzlich willkommen im Vinomagicum!\n \nOliver de Luca verzaubert Sie mit verblüffenden Zaubertricks in lockerer Tischrunde. Doch Vinomagicum ist mehr als eine Show – es ist eine Sinnesreise\, bei der wir Sie einladen\, Zauberkunst und Wein auf ganz neue Art zu erleben. \nDazu präsentiert Stefan Braunewell eine sorgfältig kuratierte Weinauswahl\, die die Vielfalt und Qualität des Weinguts widerspiegelt. Tauchen Sie ein in Aromen und Nuancen und entdecken Sie die Geschichten hinter jedem Tropfen. Dazu erwartet Sie perfekt auf die Weine abgestimmtes rheinhessisches Fingerfood. \nVinomagicum verspricht nicht nur ein unvergessliches Erlebnis voller Staunen und Genuss. Es bietet auch die Möglichkeit\, mehr über Wein\, Rheinhessen und sich selbst zu erfahren. \nSeien Sie Teil dieser magischen Reise und lassen Sie sich von Vinomagicum verführen – ein Abend voller Zauber\, Wein und unvergesslicher Momente! \nTermine 2025/2026:  23.10. / 13.11. / 27.11. / 22.1. / 26.2. / 26.3. / 23.4. \nReservierung mit Terminwunsch und Personenzahl per E-Mail an info@vinomagicum.de\, per Telefon unter 06131-468353 oder über die Online-Reservierung https://ticketshop.oliverdeluca.de/weingut-braunewell
URL:https://braunewell-wein.de/termine/vinomagicum-5/
LOCATION:Weingut Braunewell\, Am Römerberg 34\, Essenheim\, Rheinland-Pfalz\, 55270\, Deutschland
ATTACH;FMTTYPE=image/png:https://braunewell-wein.de/wp-content/uploads/2024/07/Vinomagicum.png
ORGANIZER;CN="Oliver De Luca":MAILTO:info@oliverdeluca.de
END:VEVENT
BEGIN:VEVENT
DTSTART;TZID=Europe/Berlin:20260123T193000
DTEND;TZID=Europe/Berlin:20260123T220000
DTSTAMP:20260425T195948
CREATED:20251027T132429Z
LAST-MODIFIED:20251219T085843Z
UID:38692-1769196600-1769205600@braunewell-wein.de
SUMMARY:Tasting | Online
DESCRIPTION:  \nFreut euch auf ein stimmungsvolles Online-Tasting mit vier sorgfältig ausgewählten Weinen. Gemütlich\, genussvoll und ganz entspannt von zuhause aus. \nIm Paket dazu folgende Weine: \n2022 Brut de Selztal\n2023 Essenheim Riesling Kalkstein\n2024 Essenheim Chardonnay\n2019 François  \ndazu 1x Sektverschluss \n4 Flaschen / 69 € \n  \nONLINE WEINPROBE\nWir nutzen das Online Meeting Tool Microsoft Teams für die Weinprobe:\n1) Paket bestellen oder abholen (inkl. der Zugangsdaten für den Weinprobentermin)\n2) Microsoft Teams installieren\n3) Mitprobieren und mitdiskutieren\nDer offizielle Teil dauert ca. 2 Stunden \nJetzt hier Paket sichern
URL:https://braunewell-wein.de/termine/tasting-online/
LOCATION:Online  Tasting\, Deutschland
ATTACH;FMTTYPE=image/png:https://braunewell-wein.de/wp-content/uploads/2025/10/Website-VA-Schatzkammer-Tasting-1.png
END:VEVENT
BEGIN:VEVENT
DTSTART;TZID=Europe/Paris:20260124T130000
DTEND;TZID=Europe/Paris:20260124T150000
DTSTAMP:20260425T195948
CREATED:20251023T094855Z
LAST-MODIFIED:20251023T094855Z
UID:38650-1769259600-1769266800@braunewell-wein.de
SUMMARY:Offene Betriebsführung und Weinprobe
DESCRIPTION:Wir laden Euch recht herzlich zur offenen Betriebsführung und Weinprobe zu uns ins Weingut ein – Erleben Sie über 350 Jahre Familien Weinbautradition. \nBei einem Rundgang durch unser Weingut erhaltet Ihr einen Einblick in unsere Leidenschaft. Hand in Hand\, mit viel Liebe zum Detail entstehen Weine\, die ihr Handwerk und ihre Heimat nicht verleugnen können. \nWir beginnen unsere Tour in unserem Sektkeller. Hier lernt Ihr unter anderem die traditionellen Sektmacher Methoden kennen. Nach einem Blick in unsere Schatzkammern\, in der wir gereifte Weine bis Jahrgang 1972 aufbewahren\, gelangen wir durch unseren Stahltankkeller in unseren charmanten Holzfasskeller. Auf unserem Rundgang erfahrt Ihr mehr über die Geschichte des Weinguts und wie sie sich im Wein widerspiegelt. Als Abschluss unserer Tour werden wir unsere Verkostung in unsere Vinothek ausklingen lassen. \nBetriebsführung & Verkostung: 25 € pro Person \nBitte rechtzeitig hier reservieren\, die Teilnehmerzahl ist begrenzt. \nWir freuen uns auf Ihre Anmeldung und Besuch bei uns im Weingut.
URL:https://braunewell-wein.de/termine/offene-betriebsfuehrung-und-weinprobe-17/
LOCATION:Weingut Braunewell\, Am Römerberg 34\, Essenheim\, Rheinland-Pfalz\, 55270\, Deutschland
ATTACH;FMTTYPE=image/png:https://braunewell-wein.de/wp-content/uploads/2025/10/Website-VA-Schatzkammer-Tasting.png
ORGANIZER;CN="Weingut Braunewell":MAILTO:info@weingut-braunewell.de
END:VEVENT
END:VCALENDAR